BEGIN:VCALENDAR
VERSION:2.0
PRODID:-//Tall Clubs International - ECPv6.15.18//NONSGML v1.0//EN
CALSCALE:GREGORIAN
METHOD:PUBLISH
X-WR-CALNAME:Tall Clubs International
X-ORIGINAL-URL:https://tall.org
X-WR-CALDESC:Events for Tall Clubs International
REFRESH-INTERVAL;VALUE=DURATION:PT1H
X-Robots-Tag:noindex
X-PUBLISHED-TTL:PT1H
BEGIN:VTIMEZONE
TZID:America/Los_Angeles
BEGIN:DAYLIGHT
TZOFFSETFROM:-0800
TZOFFSETTO:-0700
TZNAME:PDT
DTSTART:20250309T100000
END:DAYLIGHT
BEGIN:STANDARD
TZOFFSETFROM:-0700
TZOFFSETTO:-0800
TZNAME:PST
DTSTART:20251102T090000
END:STANDARD
BEGIN:DAYLIGHT
TZOFFSETFROM:-0800
TZOFFSETTO:-0700
TZNAME:PDT
DTSTART:20260308T100000
END:DAYLIGHT
BEGIN:STANDARD
TZOFFSETFROM:-0700
TZOFFSETTO:-0800
TZNAME:PST
DTSTART:20261101T090000
END:STANDARD
BEGIN:DAYLIGHT
TZOFFSETFROM:-0800
TZOFFSETTO:-0700
TZNAME:PDT
DTSTART:20270314T100000
END:DAYLIGHT
BEGIN:STANDARD
TZOFFSETFROM:-0700
TZOFFSETTO:-0800
TZNAME:PST
DTSTART:20271107T090000
END:STANDARD
END:VTIMEZONE
BEGIN:VEVENT
DTSTART;TZID=America/Los_Angeles:20260416T160000
DTEND;TZID=America/Los_Angeles:20260416T170000
DTSTAMP:20260421T071008
CREATED:20260224T233317Z
LAST-MODIFIED:20260329T201346Z
UID:2016-1776355200-1776358800@tall.org
SUMMARY:Executive Board Meeting for April 2026
DESCRIPTION:Contact us for the Zoom link
URL:https://tall.org/event/executive-board-meeting-for-april-2026/
LOCATION:Zoom
ORGANIZER;CN="TCI President":MAILTO:TCIpresident@tall.org
END:VEVENT
BEGIN:VEVENT
DTSTART;VALUE=DATE:20260430
DTEND;VALUE=DATE:20260504
DTSTAMP:20260421T071008
CREATED:20260225T000020Z
LAST-MODIFIED:20260225T000020Z
UID:2035-1777507200-1777852799@tall.org
SUMMARY:Central Arizona Tall Society Presents: Arizona Chill Fest
DESCRIPTION:CATS invites you to a “chill fest” gathering where you can do as little as you want or as much as you can handle. \nTENTATIVE AGENDA \nFriday Group Event @ PopStroke Glendale | Eat. Putt. Drink. Mini Golf\, Full-Service Restaurant\, Ice Cream Parlor\, Rooftop Bar and more! \nSaturday Afternoon we’ll head to Glendale – Chicken N Pickle\, an indoor/outdoor entertainment complex that includes a casual\, chef-driven restaurant and sports bar that boasts pickleball courts\, a variety of yard games (think cornhole\, ping pong and more) and enough space to kick back and relax with your favorite peeps. \nSaturday Night: BBQ / location TBD \nFor complete details download the event flyer.
URL:https://tall.org/event/central-arizona-tall-society-presents-arizona-chill-fest/
LOCATION:Cental Arizona Tall Society
END:VEVENT
BEGIN:VEVENT
DTSTART;TZID=America/Los_Angeles:20260503T123000
DTEND;TZID=America/Los_Angeles:20260503T123000
DTSTAMP:20260421T071008
CREATED:20260225T185453Z
LAST-MODIFIED:20260226T165944Z
UID:2050-1777811400-1777811400@tall.org
SUMMARY:2026 Coast to Coast Toast to Kae Sumner Einfeldt
DESCRIPTION:Who is Kae\, you ask? Kae Sumner Einfeldt was a 6’2″ young woman who\, in 1938\, thought there ought to be a club for tall people! \nShe penned an article for the LA Times talking about the challenges tall people face. At the end of that article\, she invited folks with enhanced heights to gather at her home\, and the first Tall Club\, the Longfellows\, came into being. \nTCI (Tall Clubs International) followed\, and in her honor\, we salute Kae and all of our fellow tall members across the USA & Canada. Raise a glass and celebrate!
URL:https://tall.org/event/2026-coast-to-coast-toast-to-kae-sumner-einfeldt/
LOCATION:CA
END:VEVENT
BEGIN:VEVENT
DTSTART;VALUE=DATE:20260514
DTEND;VALUE=DATE:20260517
DTSTAMP:20260421T071008
CREATED:20260226T171223Z
LAST-MODIFIED:20260226T171223Z
UID:2061-1778716800-1778975999@tall.org
SUMMARY:2026 European Convention
DESCRIPTION:Celebrating 70 years of KLM Nuremberg. Complete flyer can be found here.
URL:https://tall.org/event/2026-european-convention/
LOCATION:Nuremberg\, Germany
END:VEVENT
BEGIN:VEVENT
DTSTART;TZID=America/Los_Angeles:20260514T160000
DTEND;TZID=America/Los_Angeles:20260514T170000
DTSTAMP:20260421T071008
CREATED:20260224T233534Z
LAST-MODIFIED:20260224T233534Z
UID:2020-1778774400-1778778000@tall.org
SUMMARY:Executive Board Meeting for May 2026
DESCRIPTION:Contact us for the Zoom link
URL:https://tall.org/event/executive-board-meeting-for-may-2026/
LOCATION:Zoom
ORGANIZER;CN="TCI President":MAILTO:TCIpresident@tall.org
END:VEVENT
BEGIN:VEVENT
DTSTART;TZID=America/Los_Angeles:20260516T120000
DTEND;TZID=America/Los_Angeles:20260516T170000
DTSTAMP:20260421T071008
CREATED:20260415T001617Z
LAST-MODIFIED:20260415T001654Z
UID:2092-1778932800-1778950800@tall.org
SUMMARY:Sacramento Tall Club 2026 Member Appreciation Picnic
DESCRIPTION:STC would like to welcome you to our Member Appreciation Picnic & Anniversary Barbeque …! We will be celebrating 44 years of fun and friendship with our annual picnic & BBQ at Hagin Community Park ~ 2197 Chase Drive\, Rancho Cordova CA. Please RSVP on Meet-up or contact Kris and Susanne ( social@sacramentotallclub.org ) no later than May 10\, 2026. Full event details can be found here.
URL:https://tall.org/event/sacramento-tall-club-2026-member-appreciation-picnic/
LOCATION:Hagin Community Park\, 2197 Chase Drive\, Rancho Cordova\, CA\, United States
END:VEVENT
BEGIN:VEVENT
DTSTART;VALUE=DATE:20260526
DTEND;VALUE=DATE:20260527
DTSTAMP:20260421T071008
CREATED:20260225T185627Z
LAST-MODIFIED:20260225T185627Z
UID:2052-1779753600-1779839999@tall.org
SUMMARY:70 Days before the 2026 TCI Delegate Meeting
DESCRIPTION:All Delegate meeting information must be to the TCI president by today.
URL:https://tall.org/event/70-days-before-the-2026-tci-delegate-meeting/
LOCATION:CA
ORGANIZER;CN="TCI President":MAILTO:TCIpresident@tall.org
END:VEVENT
BEGIN:VEVENT
DTSTART;TZID=America/Los_Angeles:20260611T160000
DTEND;TZID=America/Los_Angeles:20260611T170000
DTSTAMP:20260421T071008
CREATED:20260224T233701Z
LAST-MODIFIED:20260224T233701Z
UID:2022-1781193600-1781197200@tall.org
SUMMARY:Executive Board Meeting for June 2026
DESCRIPTION:Contact us for the Zoom link
URL:https://tall.org/event/executive-board-meeting-for-june-2026/
LOCATION:Zoom
ORGANIZER;CN="TCI President":MAILTO:TCIpresident@tall.org
END:VEVENT
BEGIN:VEVENT
DTSTART;TZID=America/Los_Angeles:20260613T120000
DTEND;TZID=America/Los_Angeles:20260613T170000
DTSTAMP:20260421T071008
CREATED:20260406T171317Z
LAST-MODIFIED:20260406T171317Z
UID:2088-1781352000-1781370000@tall.org
SUMMARY:Paramount Tall Club of Chicago Membership Picnic 2026
DESCRIPTION:FREE to Paramount Tall Club and Probationary Members who have paid Dues. Busse Woods / Ned Brown Meadow Forest Preserve\, Grove #17. Full details here.
URL:https://tall.org/event/paramount-tall-club-of-chicago-membership-picnic-2026/
LOCATION:Busse Woods / Ned Brown Meadow Forest Preserve\, Grove #17\, Elk Grove Village\, IL\, United States
END:VEVENT
BEGIN:VEVENT
DTSTART;TZID=America/Los_Angeles:20260709T160000
DTEND;TZID=America/Los_Angeles:20260709T170000
DTSTAMP:20260421T071008
CREATED:20260224T233759Z
LAST-MODIFIED:20260224T233759Z
UID:2024-1783612800-1783616400@tall.org
SUMMARY:Executive Board Meeting for July 2026
DESCRIPTION:Contact us for the Zoom link
URL:https://tall.org/event/executive-board-meeting-for-july-2026/
LOCATION:Zoom
ORGANIZER;CN="TCI President":MAILTO:TCIpresident@tall.org
END:VEVENT
BEGIN:VEVENT
DTSTART;VALUE=DATE:20260713
DTEND;VALUE=DATE:20260714
DTSTAMP:20260421T071008
CREATED:20260225T185934Z
LAST-MODIFIED:20260225T185934Z
UID:2054-1783900800-1783987199@tall.org
SUMMARY:2026 Merit Award Nomination Deadline
DESCRIPTION:All Merit Award nomination forms must be submitted to Shirlene Murphy by today.
URL:https://tall.org/event/2026-merit-award-nomination-deadline/
LOCATION:CA
ORGANIZER;CN="TCI President":MAILTO:TCIpresident@tall.org
END:VEVENT
BEGIN:VEVENT
DTSTART;TZID=America/Los_Angeles:20260801T140000
DTEND;TZID=America/Los_Angeles:20260801T210000
DTSTAMP:20260421T071008
CREATED:20260421T002240Z
LAST-MODIFIED:20260421T002240Z
UID:2095-1785592800-1785618000@tall.org
SUMMARY:Big Bob's 44th Annual Apple Picking Party and Concert
DESCRIPTION:Festivities Start & Gates open at 2 PM | Band starts at 3 PM \nFEATURING THE CRAIG CAFFALL BAND! http://www.craigcaffall.com \nDon’t miss one of Big Bob & Redwood Empire Tall Club’s most popular events for his Tall and “Dance Tribe” friends from throughout Northern California\, and beyond! \nTHIS IS A FREE EVENT \nPlease be generous with the band and thank them accordingly with your abundant tips. Swimming Pool | Darts | Pool Table | Fun | Tall Fellowship | Live Music | Dancing and of course if you would like to have some to take home: Apple Picking. \nBring your swim suit & towel. Wear comfortable shoes. The band starts at 3pm and will be out in the apple orchard so people can be socially distanced\, so bring your own chair or blanket\, and if it’s a warm day arrive early to get a place in the shade or bring your beach umbrella with you. \nVERY IMPORTANT: \nThis is a potluck\, so please bring a yummy dish to share with all your friends (think salads\, main dishes\, etc.) Thank you for bringing your shared potluck dish in a disposable container with your own serving utensil. Please Bring your own reusable/disposable plate\, utensil\, and cup as those are NOT PROVIDED. There will be 2 BBQs available in case you would like to bring something to grill (usually someone volunteers to help with grilling\, if needed). \nBYOB (WATER WILL BE PROVIDED) \nFull event details here.
URL:https://tall.org/event/big-bobs-44th-annual-apple-picking-party-and-concert/
LOCATION:Bob Hirsch’s Home\, 1055 Montgomery Rd\, Sebastopol\, CA\, United States
END:VEVENT
BEGIN:VEVENT
DTSTART;VALUE=DATE:20260802
DTEND;VALUE=DATE:20260803
DTSTAMP:20260421T071008
CREATED:20260401T220421Z
LAST-MODIFIED:20260401T220421Z
UID:2080-1785628800-1785715199@tall.org
SUMMARY:11th Annual Tall Club Reunion
DESCRIPTION:This is my family’s beach cottage built in 1907 and one of the early Tip Toppers’ stomping grounds including founder Kae Sumner Einfeldt. My mother\, Lucile Poor (one of the original 9 Tip Toppers) met my father\, John Q. Long\, in the Tall Club at a Sunset Beach party and honeymooned here too. Scrapbooks from that era available. Arrivals begin at 11 AM and BBQ will start at approximately 1 PM Please bring the normal beach accoutrements (swimsuit\, sunblock\, hat\, sunglasses\, boogie board\, towels\, beach chair\, ice chest\, change of clothes). We do have some extra towels and beach chairs\, if you can’t bring them. We will have pop-up tents set up on the green belt and in front of the house. NOTE: There is a 7-11 and a liquor store half a block away. For full details\, look here.
URL:https://tall.org/event/11th-annual-tall-club-reunion/
LOCATION:CA
END:VEVENT
BEGIN:VEVENT
DTSTART;VALUE=DATE:20260803
DTEND;VALUE=DATE:20260810
DTSTAMP:20260421T071008
CREATED:20260225T000246Z
LAST-MODIFIED:20260225T000246Z
UID:2038-1785715200-1786319999@tall.org
SUMMARY:TCI Convention 2026: Hurray for Hollywood
DESCRIPTION:Join your Tall friends at the Whisky Hotel in downtown Hollywood August 3rd through 9th. Complete flyer can be found here with the itinerary here. There was a Zoom presentation (password “!k@ztr8K”) with a Q&A that you can review here. \n\n\nPlanned Outings \nTMZ Celebrity Bus Tour\nJimmy Kimmel Live Taping (TBD)\nConcert at Hollywood Bowl\nUniversal City Walk\nGriffith Observatory\nPetersen Auto Museum\nAcademy Museum Motion Pic \n\n\nPlanned Food \nContinental Sunrise Breakfast\nDinner Under the Stars\nHard Rock Café\nBuca di Beppo\nPicnic At Hollywood Bowl\nRooftop Banquet Dinner\n3 After Hours w/Snacks \n\n\nPlans at the Hotel \nDancing and Casino Night\nTCI & Marfan Fund Raiser\nTwo Semi/Formal Nights\nSunsets Over the City\nStar Lit After Hours\nAwards Dinner\nDelegates Meeting \n\n\n\n\nPackage Price \nPayment Received\nPostmarked by:\nFeb 28\, 2026… $600.00\nApr 30\, 2026… $625.00\nAfter May 1\, 2026… $650.00 \n\n\nWhisky Hotel \n1717 Wilcox Ave\nLos Angeles\, CA 90028\n(323) 432-8282\nReserve Room Link\nContact Maria Rodriguez\n$189.00 plus tax ($218.64 per night) \n\n\nAmenities \nKing and Double Queen Beds\nLuxurious Bathrooms\, WiFi\,\nLarge HD LED TV’s\, Streaming\,\nNightly Turndown\, Nespresso\nMachine\, Bottled Water \n\n\nRegistration Chair: Jim Nelson (847) 421-2049 Registration Details: Non-refundable deposit of $175 (US Funds) is due with each registration to save your package rate. Send this form and the deposit to Jim Nelson at 6959 W. Hobart\, Chicago\, IL 60631. Make checks payable to 2026 TCI Convention. Final payment due July 15\, 2026. Whisky Hotel has a reserved block of 50 rooms. BOOK SOON!
URL:https://tall.org/event/tci-convention-2026-hurray-for-hollywood/
LOCATION:Hollywood CA
END:VEVENT
BEGIN:VEVENT
DTSTART;VALUE=DATE:20260804
DTEND;VALUE=DATE:20260805
DTSTAMP:20260421T071008
CREATED:20260225T190101Z
LAST-MODIFIED:20260225T190101Z
UID:2056-1785801600-1785887999@tall.org
SUMMARY:TCI Delegate Meeting at 2026 Convention
DESCRIPTION:Delegates meeting
URL:https://tall.org/event/tci-delegate-meeting-at-2026-convention/
LOCATION:Hollywood CA
ORGANIZER;CN="TCI President":MAILTO:TCIpresident@tall.org
END:VEVENT
BEGIN:VEVENT
DTSTART;TZID=America/Los_Angeles:20260910T160000
DTEND;TZID=America/Los_Angeles:20260910T170000
DTSTAMP:20260421T071008
CREATED:20260224T233904Z
LAST-MODIFIED:20260224T233904Z
UID:2026-1789056000-1789059600@tall.org
SUMMARY:Executive Board Meeting for September 2026
DESCRIPTION:Contact us for the Zoom link
URL:https://tall.org/event/executive-board-meeting-for-september-2026/
LOCATION:Zoom
ORGANIZER;CN="TCI President":MAILTO:TCIpresident@tall.org
END:VEVENT
BEGIN:VEVENT
DTSTART;TZID=America/Los_Angeles:20261008T160000
DTEND;TZID=America/Los_Angeles:20261008T170000
DTSTAMP:20260421T071008
CREATED:20260224T233957Z
LAST-MODIFIED:20260225T000942Z
UID:2028-1791475200-1791478800@tall.org
SUMMARY:Executive Board Meeting for October 2026
DESCRIPTION:Contact us for the Zoom link
URL:https://tall.org/event/executive-board-meeting-for-october-2026/
LOCATION:Zoom
ORGANIZER;CN="TCI President":MAILTO:TCIpresident@tall.org
END:VEVENT
BEGIN:VEVENT
DTSTART;VALUE=DATE:20261015
DTEND;VALUE=DATE:20261022
DTSTAMP:20260421T071008
CREATED:20260225T000503Z
LAST-MODIFIED:20260225T000503Z
UID:2041-1792022400-1792627199@tall.org
SUMMARY:Sacramento Tall Club Presents: Talls in Paradise: Adult-Only Cancun Getaway
DESCRIPTION:The Sacramento Tall Club is sponsoring an unforgettable adult-only\, all-inclusive getaway in Cancun—and we think you’ll love it! Hyatt Vivid Grand Island in Cancun\, Mexico (Hotel Zone). Seven nights starting October 15\, 2026. Round-trip airport transfers included. All food & drinks included. For complete details\, download the flyer.
URL:https://tall.org/event/sacramento-tall-club-presents-talls-in-paradise-adult-only-cancun-getaway/
LOCATION:Cancun Mexico\, Mexico
END:VEVENT
BEGIN:VEVENT
DTSTART;TZID=America/Los_Angeles:20261112T160000
DTEND;TZID=America/Los_Angeles:20261112T170000
DTSTAMP:20260421T071008
CREATED:20260224T234051Z
LAST-MODIFIED:20260225T001034Z
UID:2030-1794499200-1794502800@tall.org
SUMMARY:Executive Board Meeting for November 2026
DESCRIPTION:Contact us for the Zoom link
URL:https://tall.org/event/executive-board-meeting-for-november-2026/
LOCATION:Zoom
ORGANIZER;CN="TCI President":MAILTO:TCIpresident@tall.org
END:VEVENT
END:VCALENDAR